BEGIN:VCALENDAR
VERSION:2.0
PRODID:-//The University of Hong Kong Calendar - ECPv5.10.0//NONSGML v1.0//EN
CALSCALE:GREGORIAN
METHOD:PUBLISH
X-WR-CALNAME:The University of Hong Kong Calendar
X-ORIGINAL-URL:https://calendar.hku.hk
X-WR-CALDESC:Events for The University of Hong Kong Calendar
BEGIN:VTIMEZONE
TZID:Asia/Shanghai
BEGIN:STANDARD
TZOFFSETFROM:+0800
TZOFFSETTO:+0800
TZNAME:CST
DTSTART:20260101T000000
END:STANDARD
END:VTIMEZONE
BEGIN:VEVENT
DTSTART;TZID=Asia/Shanghai:20260414T143000
DTEND;TZID=Asia/Shanghai:20260414T143000
DTSTAMP:20260421T033829
CREATED:20211028T192455Z
LAST-MODIFIED:20211028T192455Z
UID:7532-1776177000-1776177000@calendar.hku.hk
SUMMARY:Board of the Faculty of Science
DESCRIPTION:
URL:https://calendar.hku.hk/diary-2025-2026-event/board-of-the-faculty-of-science/2026-04-14/
LOCATION:Senate Room
CATEGORIES:Science
END:VEVENT
END:VCALENDAR